BEGIN:VCALENDAR
VERSION:2.0
PRODID:-//Dracco Soluções em Tecnologia e Marketing Digital - ECPv6.6.1//NONSGML v1.0//EN
CALSCALE:GREGORIAN
METHOD:PUBLISH
X-ORIGINAL-URL:https://drac.co
X-WR-CALDESC:Eventos para Dracco Soluções em Tecnologia e Marketing Digital
REFRESH-INTERVAL;VALUE=DURATION:PT1H
X-Robots-Tag:noindex
X-PUBLISHED-TTL:PT1H
BEGIN:VTIMEZONE
TZID:America/Sao_Paulo
BEGIN:STANDARD
TZOFFSETFROM:-0300
TZOFFSETTO:-0300
TZNAME:-03
DTSTART:20240101T000000
END:STANDARD
END:VTIMEZONE
BEGIN:VEVENT
DTSTART;TZID=America/Sao_Paulo:20241015T080000
DTEND;TZID=America/Sao_Paulo:20241017T170000
DTSTAMP:20260425T084731
CREATED:20240911T200034Z
LAST-MODIFIED:20240911T200034Z
UID:9363-1728979200-1729184400@drac.co
SUMMARY:CMO Summit
DESCRIPTION:O CMO Summit é um evento online 100% gratuito. Basta confirmar sua presença para participar.
URL:https://drac.co/evento/cmo-summit/
END:VEVENT
BEGIN:VEVENT
DTSTART;TZID=America/Sao_Paulo:20241016T110000
DTEND;TZID=America/Sao_Paulo:20241016T120000
DTSTAMP:20260425T084731
CREATED:20241014T211811Z
LAST-MODIFIED:20241014T211811Z
UID:9446-1729076400-1729080000@drac.co
SUMMARY:Black Friday na Era da IA
DESCRIPTION:  \nNosso Webinar gratuito Black Friday na Era da IA está se aproximando e ainda não recebemos sua inscrição! \nBlack Friday na Era da IA\n📅 16 de outubro | 🕚 11h |📍 Ao vivo pelo YouTube\nNão perca a chance de aprender com especialistas da Zenvia como usar a Inteligência Artificial para aumentar suas vendas e oferecer uma experiência de compra inesquecível na maior maratona de vendas do ano. 🏁 \nClique no botão abaixo para garantir sua vaga e conferir mais detalhes do evento: \n 
URL:https://drac.co/evento/black-friday-na-era-da-ia-2/
ATTACH;FMTTYPE=image/png:https://drac.co/wp-content/uploads/2024/10/unnamed.png
END:VEVENT
END:VCALENDAR